BEGIN:VCALENDAR
VERSION:2.0
PRODID:-//Plone.org//NONSGML plone.app.event//EN
X-WR-TIMEZONE:Europe/Rome
BEGIN:VEVENT
SUMMARY:Commissione Consiliare I
DTSTART;TZID=Europe/Rome:20250930T170000
DTEND;TZID=Europe/Rome:20250930T180000
DTSTAMP:20260420T191747Z
UID:3d90c9b7ed08425ca871eb0685512f0b@www.comune.parma.it
CATEGORIES:Home page,commissioni consiliari
CREATED:20250926T151114Z
DESCRIPTION:Convocazione della Prima Commissione Consiliare Permanente “
 Bilancio e Affari Finanziari”
LAST-MODIFIED:20251001T080250Z
URL:https://www.comune.parma.it/api/it/vivere-parma/eventi/commissione-con
 siliare-i-30-09-2025/2025-09-30
END:VEVENT
BEGIN:VTIMEZONE
TZID:Europe/Rome
X-LIC-LOCATION:Europe/Rome
BEGIN:DAYLIGHT
DTSTART:20250330T030000
TZNAME:CEST
TZOFFSETFROM:+0100
TZOFFSETTO:+0200
END:DAYLIGHT
END:VTIMEZONE
END:VCALENDAR
