BEGIN:VCALENDAR
VERSION:2.0
PRODID:-//Plone.org//NONSGML plone.app.event//EN
X-WR-TIMEZONE:Europe/Rome
BEGIN:VEVENT
SUMMARY:Commissione consiliare I
DTSTART;TZID=Europe/Rome:20221215T173000
DTEND;TZID=Europe/Rome:20221215T200000
DTSTAMP:20260421T140334Z
UID:fb6313dc6fcd469c8df88bc49b8c952e@www.comune.parma.it
CATEGORIES:Home page,commissioni consiliari
CREATED:20221213T081222Z
DESCRIPTION:Bilancio e Affari Finanziari
LAST-MODIFIED:20230718T084901Z
URL:https://www.comune.parma.it/api/it/vivere-parma/eventi/commissione-con
 siliare-i-6/2022-12-15
END:VEVENT
BEGIN:VTIMEZONE
TZID:Europe/Rome
X-LIC-LOCATION:Europe/Rome
BEGIN:STANDARD
DTSTART:20221030T020000
TZNAME:CET
TZOFFSETFROM:+0200
TZOFFSETTO:+0100
END:STANDARD
END:VTIMEZONE
END:VCALENDAR
