BEGIN:VCALENDAR
VERSION:2.0
PRODID:-//Plone.org//NONSGML plone.app.event//EN
X-WR-TIMEZONE:Europe/Rome
BEGIN:VEVENT
SUMMARY:Commissione Consiliare I
DTSTART;TZID=Europe/Rome:20221216T170000
DTEND;TZID=Europe/Rome:20221216T200000
DTSTAMP:20260419T215749Z
UID:3564039f46f24ef3995d0ade5f20487b@www.comune.parma.it
CATEGORIES:Home page,commissioni consiliari
CREATED:20221213T155102Z
DESCRIPTION:Bilancio e Affari finanziari
LAST-MODIFIED:20230718T084859Z
URL:https://www.comune.parma.it/api/it/vivere-parma/eventi/commissione-con
 siliare-i-7/2022-12-16
END:VEVENT
BEGIN:VTIMEZONE
TZID:Europe/Rome
X-LIC-LOCATION:Europe/Rome
BEGIN:STANDARD
DTSTART:20221030T020000
TZNAME:CET
TZOFFSETFROM:+0200
TZOFFSETTO:+0100
END:STANDARD
END:VTIMEZONE
END:VCALENDAR
