BEGIN:VCALENDAR
VERSION:2.0
PRODID:-//Plone.org//NONSGML plone.app.event//EN
X-WR-TIMEZONE:Europe/Rome
BEGIN:VEVENT
SUMMARY:Commissione Consiliare II
DTSTART;TZID=Europe/Rome:20240503T173000
DTEND;TZID=Europe/Rome:20240503T183000
DTSTAMP:20260421T154150Z
UID:3063c81a6b0e4209a4eae58a73416da2@www.comune.parma.it
CATEGORIES:Home page,commissioni consiliari
CREATED:20240429T100507Z
DESCRIPTION:Garanzia e Controllo
LAST-MODIFIED:20240429T101512Z
URL:https://www.comune.parma.it/api/it/vivere-parma/eventi/commissione-con
 siliare-ii-03-05-2024/2024-05-03
END:VEVENT
BEGIN:VTIMEZONE
TZID:Europe/Rome
X-LIC-LOCATION:Europe/Rome
BEGIN:DAYLIGHT
DTSTART:20240331T030000
TZNAME:CEST
TZOFFSETFROM:+0100
TZOFFSETTO:+0200
END:DAYLIGHT
END:VTIMEZONE
END:VCALENDAR
