BEGIN:VCALENDAR
VERSION:2.0
PRODID:-//Plone.org//NONSGML plone.app.event//EN
X-WR-TIMEZONE:Europe/Rome
BEGIN:VEVENT
SUMMARY:Commissione Consiliare II e V
DTSTART;TZID=Europe/Rome:20230502T190000
DTEND;TZID=Europe/Rome:20230502T203000
DTSTAMP:20260419T214338Z
UID:7bdc551db1914f00a972df4440f90d59@www.comune.parma.it
CATEGORIES:Home page,commissioni consiliari
CREATED:20230427T212254Z
DESCRIPTION:Garanzia e Controllo e Scuola\, Giovani\, Sicurezza e Partecip
 azione.
LAST-MODIFIED:20230718T084817Z
URL:https://www.comune.parma.it/api/it/vivere-parma/eventi/commissione-con
 siliare-ii-e-v/2023-05-02
END:VEVENT
BEGIN:VTIMEZONE
TZID:Europe/Rome
X-LIC-LOCATION:Europe/Rome
BEGIN:DAYLIGHT
DTSTART:20230326T030000
TZNAME:CEST
TZOFFSETFROM:+0100
TZOFFSETTO:+0200
END:DAYLIGHT
END:VTIMEZONE
END:VCALENDAR
