BEGIN:VCALENDAR
VERSION:2.0
PRODID:-//Plone.org//NONSGML plone.app.event//EN
X-WR-TIMEZONE:Europe/Rome
BEGIN:VEVENT
SUMMARY:Commissione Consiliare III
DTSTART;TZID=Europe/Rome:20240514T163000
DTEND;TZID=Europe/Rome:20240514T173000
DTSTAMP:20260425T122934Z
UID:11eb288a1cb344d1bdd94887b8b2690b@www.comune.parma.it
CATEGORIES:Home page,commissioni consiliari
CREATED:20240510T072352Z
DESCRIPTION:Convocazione della III COMMISSIONE CONSILIARE\n“Urbanistica\
 , Attività produttive e Protezione civile”
LAST-MODIFIED:20240510T072618Z
URL:https://www.comune.parma.it/api/it/vivere-parma/eventi/commissione-con
 siliare-iii-14-05-2024
END:VEVENT
BEGIN:VTIMEZONE
TZID:Europe/Rome
X-LIC-LOCATION:Europe/Rome
BEGIN:DAYLIGHT
DTSTART:20240331T030000
TZNAME:CEST
TZOFFSETFROM:+0100
TZOFFSETTO:+0200
END:DAYLIGHT
END:VTIMEZONE
END:VCALENDAR
