BEGIN:VCALENDAR
VERSION:2.0
PRODID:-//Plone.org//NONSGML plone.app.event//EN
X-WR-TIMEZONE:Europe/Rome
BEGIN:VEVENT
SUMMARY:Commissione Consiliare III
DTSTART;TZID=Europe/Rome:20250320T173000
DTEND;TZID=Europe/Rome:20250320T183000
DTSTAMP:20260421T173255Z
UID:dfe3b5b1fd834b4a91f74ba4bcf09047@www.comune.parma.it
CATEGORIES:Home page,commissioni consiliari
CREATED:20250317T165718Z
DESCRIPTION:Convocazione della terza Commissione Consiliare Permanente "Ur
 banistica\, Attività Produttive e Protezione civile"
LAST-MODIFIED:20250321T122607Z
URL:https://www.comune.parma.it/api/it/vivere-parma/eventi/commissione-con
 siliare-iii-20-03-2025/2025-03-20
END:VEVENT
BEGIN:VTIMEZONE
TZID:Europe/Rome
X-LIC-LOCATION:Europe/Rome
BEGIN:STANDARD
DTSTART:20241027T020000
TZNAME:CET
TZOFFSETFROM:+0200
TZOFFSETTO:+0100
END:STANDARD
END:VTIMEZONE
END:VCALENDAR
