BEGIN:VCALENDAR
VERSION:2.0
PRODID:-//Plone.org//NONSGML plone.app.event//EN
X-WR-TIMEZONE:Europe/Rome
BEGIN:VEVENT
SUMMARY:Commissione Consiliare III
DTSTART;TZID=Europe/Rome:20240925T163000
DTEND;TZID=Europe/Rome:20240925T173000
DTSTAMP:20260422T163542Z
UID:6b1600a92ed2411fa96a8b989cb8b06a@www.comune.parma.it
CATEGORIES:Home page,commissioni consiliari
CREATED:20240925T072125Z
DESCRIPTION:Convocazione della terza Commissione Consiliare Permanente "Ur
 banistica\, Attività produttive e Protezione civile"
LAST-MODIFIED:20240925T072311Z
URL:https://www.comune.parma.it/api/it/vivere-parma/eventi/commissione-con
 siliare-iii-25-09-2024/2024-09-25
END:VEVENT
BEGIN:VTIMEZONE
TZID:Europe/Rome
X-LIC-LOCATION:Europe/Rome
BEGIN:DAYLIGHT
DTSTART:20240331T030000
TZNAME:CEST
TZOFFSETFROM:+0100
TZOFFSETTO:+0200
END:DAYLIGHT
END:VTIMEZONE
END:VCALENDAR
