BEGIN:VCALENDAR
VERSION:2.0
PRODID:-//Plone.org//NONSGML plone.app.event//EN
X-WR-TIMEZONE:Europe/Rome
BEGIN:VEVENT
SUMMARY:Commissione Consiliare III
DTSTART;TZID=Europe/Rome:20250326T170000
DTEND;TZID=Europe/Rome:20250326T180000
DTSTAMP:20260419T201728Z
UID:4dedc70e1ef74fa285e66c7d4af23cd4@www.comune.parma.it
CATEGORIES:Home page,commissioni consiliari
CREATED:20250321T120020Z
DESCRIPTION:Convocazione della terza Commissione Consiliare Permanente "Ur
 banistica\, Attività Produttive e Protezione civile"
LAST-MODIFIED:20250321T120340Z
URL:https://www.comune.parma.it/api/it/vivere-parma/eventi/commissione-con
 siliare-iii-26-03-2025
END:VEVENT
BEGIN:VTIMEZONE
TZID:Europe/Rome
X-LIC-LOCATION:Europe/Rome
BEGIN:STANDARD
DTSTART:20241027T020000
TZNAME:CET
TZOFFSETFROM:+0200
TZOFFSETTO:+0100
END:STANDARD
END:VTIMEZONE
END:VCALENDAR
