BEGIN:VCALENDAR
VERSION:2.0
PRODID:-//Plone.org//NONSGML plone.app.event//EN
X-WR-TIMEZONE:Europe/Rome
BEGIN:VEVENT
SUMMARY:Commissione Consiliare III
DTSTART;TZID=Europe/Rome:20240627T163000
DTEND;TZID=Europe/Rome:20240627T173000
DTSTAMP:20260420T155256Z
UID:935a39d19fab4b43816ae95ba60564f2@www.comune.parma.it
CATEGORIES:Home page,commissioni consiliari
CREATED:20240620T150100Z
DESCRIPTION:Convocazione della terza Commissione Consiliare Permanente: "C
 ultura\, Sport\, Turismo e Diritti".
LAST-MODIFIED:20240621T142452Z
URL:https://www.comune.parma.it/api/it/vivere-parma/eventi/commissione-con
 siliare-iii-27-06-2024/2024-06-27
END:VEVENT
BEGIN:VTIMEZONE
TZID:Europe/Rome
X-LIC-LOCATION:Europe/Rome
BEGIN:DAYLIGHT
DTSTART:20240331T030000
TZNAME:CEST
TZOFFSETFROM:+0100
TZOFFSETTO:+0200
END:DAYLIGHT
END:VTIMEZONE
END:VCALENDAR
