BEGIN:VCALENDAR
VERSION:2.0
PRODID:-//Plone.org//NONSGML plone.app.event//EN
X-WR-TIMEZONE:Europe/Rome
BEGIN:VEVENT
SUMMARY:Commissione Consiliare III
DTSTART;TZID=Europe/Rome:20230510T183000
DTEND;TZID=Europe/Rome:20230510T200000
DTSTAMP:20260419T183647Z
UID:cc2813db3ad3487690a87735cf4d5654@www.comune.parma.it
CATEGORIES:Home page,commissioni consiliari
CREATED:20230505T080654Z
DESCRIPTION:Urbanistica\, Attività Produttive e Protezione civile.
LAST-MODIFIED:20230718T084813Z
URL:https://www.comune.parma.it/api/it/vivere-parma/eventi/commissione-con
 siliare-iii-6/2023-05-10
END:VEVENT
BEGIN:VTIMEZONE
TZID:Europe/Rome
X-LIC-LOCATION:Europe/Rome
BEGIN:DAYLIGHT
DTSTART:20230326T030000
TZNAME:CEST
TZOFFSETFROM:+0100
TZOFFSETTO:+0200
END:DAYLIGHT
END:VTIMEZONE
END:VCALENDAR
