BEGIN:VCALENDAR
VERSION:2.0
PRODID:-//Plone.org//NONSGML plone.app.event//EN
X-WR-TIMEZONE:Europe/Rome
BEGIN:VEVENT
SUMMARY:Commissione Consiliare IV
DTSTART;TZID=Europe/Rome:20260417T173000
DTEND;TZID=Europe/Rome:20260417T183000
DTSTAMP:20260419T214926Z
UID:b0c06af4e58c42c2b742368a5d879966@www.comune.parma.it
CATEGORIES:Home page,commissioni consiliari
CREATED:20260415T104329Z
DESCRIPTION:Convocazione della Quarta Commissione Consiliare Permanente  
 “Ambiente\, Mobilità e Transizione digitale”
LAST-MODIFIED:20260415T104524Z
URL:https://www.comune.parma.it/api/it/vivere-parma/eventi/commissione-con
 siliare-iv-12/2026-04-17
END:VEVENT
BEGIN:VTIMEZONE
TZID:Europe/Rome
X-LIC-LOCATION:Europe/Rome
BEGIN:DAYLIGHT
DTSTART:20260329T030000
TZNAME:CEST
TZOFFSETFROM:+0100
TZOFFSETTO:+0200
END:DAYLIGHT
END:VTIMEZONE
END:VCALENDAR
