BEGIN:VCALENDAR
VERSION:2.0
PRODID:-//Plone.org//NONSGML plone.app.event//EN
X-WR-TIMEZONE:Europe/Rome
BEGIN:VEVENT
SUMMARY:Commissione Consiliare V
DTSTART;TZID=Europe/Rome:20250910T180000
DTEND;TZID=Europe/Rome:20250910T190000
DTSTAMP:20260419T142941Z
UID:916ab537c75f46aebca1326564ac232c@www.comune.parma.it
CATEGORIES:Home page,commissioni consiliari
CREATED:20250902T090917Z
DESCRIPTION:Convocazione della quinta Commissione Consiliare Permanente 
 “Scuola\, Giovani\, Sicurezza e Partecipazione”
LAST-MODIFIED:20250911T090012Z
URL:https://www.comune.parma.it/api/it/vivere-parma/eventi/commissione-con
 siliare-v-10-09-2025/2025-09-10
END:VEVENT
BEGIN:VTIMEZONE
TZID:Europe/Rome
X-LIC-LOCATION:Europe/Rome
BEGIN:DAYLIGHT
DTSTART:20250330T030000
TZNAME:CEST
TZOFFSETFROM:+0100
TZOFFSETTO:+0200
END:DAYLIGHT
END:VTIMEZONE
END:VCALENDAR
