BEGIN:VCALENDAR
VERSION:2.0
PRODID:-//Plone.org//NONSGML plone.app.event//EN
X-WR-TIMEZONE:Europe/Rome
BEGIN:VEVENT
SUMMARY:Commissione Consiliare V
DTSTART;TZID=Europe/Rome:20231121T180000
DTEND;TZID=Europe/Rome:20231121T193000
DTSTAMP:20260419T215712Z
UID:b42025ef763541d78c24d439e56f3075@www.comune.parma.it
CATEGORIES:Home page,commissioni consiliari
CREATED:20231116T103021Z
DESCRIPTION:Scuola\, Giovani\, Sicurezza e Partecipazione.
LAST-MODIFIED:20231122T105545Z
URL:https://www.comune.parma.it/api/it/vivere-parma/eventi/commissione-con
 siliare-v-9/2023-11-21
END:VEVENT
BEGIN:VTIMEZONE
TZID:Europe/Rome
X-LIC-LOCATION:Europe/Rome
BEGIN:STANDARD
DTSTART:20231029T020000
TZNAME:CET
TZOFFSETFROM:+0200
TZOFFSETTO:+0100
END:STANDARD
END:VTIMEZONE
END:VCALENDAR
