BEGIN:VCALENDAR
VERSION:2.0
PRODID:-//Plone.org//NONSGML plone.app.event//EN
X-WR-TIMEZONE:Europe/Rome
BEGIN:VEVENT
SUMMARY:Commissione Consiliare VI
DTSTART;TZID=Europe/Rome:20260305T173000
DTEND;TZID=Europe/Rome:20260305T183000
DTSTAMP:20260419T154141Z
UID:93fe0a5b8ae34fddba23b65273e42fcf@www.comune.parma.it
CATEGORIES:Home page,commissioni consiliari
CREATED:20260225T092115Z
DESCRIPTION:Convocazione della Sesta Commissione Consiliari Permanente "We
 lfare\, Politiche Abitative e del Lavoro"
LAST-MODIFIED:20260225T092436Z
URL:https://www.comune.parma.it/api/it/vivere-parma/eventi/commissione-con
 siliare-vi-05-03-2026/2026-03-05
END:VEVENT
BEGIN:VTIMEZONE
TZID:Europe/Rome
X-LIC-LOCATION:Europe/Rome
BEGIN:STANDARD
DTSTART:20251026T020000
TZNAME:CET
TZOFFSETFROM:+0200
TZOFFSETTO:+0100
END:STANDARD
END:VTIMEZONE
END:VCALENDAR
