BEGIN:VCALENDAR
VERSION:2.0
PRODID:-//Plone.org//NONSGML plone.app.event//EN
X-WR-TIMEZONE:Europe/Rome
BEGIN:VEVENT
SUMMARY:Commissione Consiliare VI
DTSTART;TZID=Europe/Rome:20251114T173000
DTEND;TZID=Europe/Rome:20251114T183000
DTSTAMP:20260420T140946Z
UID:6951c898587149e1bcab9097977b5042@www.comune.parma.it
CATEGORIES:Home page,commissioni consiliari
CREATED:20251103T083434Z
DESCRIPTION:Annullata 
LAST-MODIFIED:20251113T113122Z
URL:https://www.comune.parma.it/api/it/vivere-parma/eventi/commissione-con
 siliare-vi-14-11-2025/2025-11-14
END:VEVENT
BEGIN:VTIMEZONE
TZID:Europe/Rome
X-LIC-LOCATION:Europe/Rome
BEGIN:STANDARD
DTSTART:20251026T020000
TZNAME:CET
TZOFFSETFROM:+0200
TZOFFSETTO:+0100
END:STANDARD
END:VTIMEZONE
END:VCALENDAR
