BEGIN:VCALENDAR
VERSION:2.0
PRODID:-//Plone.org//NONSGML plone.app.event//EN
X-WR-TIMEZONE:Europe/Rome
BEGIN:VEVENT
SUMMARY:Commissione Consiliare VI
DTSTART;TZID=Europe/Rome:20240618T180000
DTEND;TZID=Europe/Rome:20240618T190000
DTSTAMP:20260419T155342Z
UID:54060c2d984e4504a8c7fa19b43ded5b@www.comune.parma.it
CATEGORIES:Home page,commissioni consiliari
CREATED:20240618T110549Z
DESCRIPTION:Convocazione della sesta Commissione Consiliare Permanente: We
 lfare\, Politiche abitative e Lavoro
LAST-MODIFIED:20240618T110936Z
URL:https://www.comune.parma.it/api/it/vivere-parma/eventi/commissione-con
 siliare-vi-18-06-2024
END:VEVENT
BEGIN:VTIMEZONE
TZID:Europe/Rome
X-LIC-LOCATION:Europe/Rome
BEGIN:DAYLIGHT
DTSTART:20240331T030000
TZNAME:CEST
TZOFFSETFROM:+0100
TZOFFSETTO:+0200
END:DAYLIGHT
END:VTIMEZONE
END:VCALENDAR
