BEGIN:VCALENDAR
VERSION:2.0
PRODID:-//Plone.org//NONSGML plone.app.event//EN
X-WR-TIMEZONE:Europe/Rome
BEGIN:VEVENT
SUMMARY:Commissione Consiliare VI
DTSTART;TZID=Europe/Rome:20251118T173000
DTEND;TZID=Europe/Rome:20251118T183000
DTSTAMP:20260421T133422Z
UID:4fba1aed65e544d3a94acc0c8fab991b@www.comune.parma.it
CATEGORIES:Home page,commissioni consiliari
CREATED:20251030T112903Z
DESCRIPTION:Convocazione della Sesta Commissione Consiliare Permanente “
 Welfare\, Politiche abitative e Lavoro”
LAST-MODIFIED:20251030T113255Z
URL:https://www.comune.parma.it/api/it/vivere-parma/eventi/commissione-con
 siliare-vi-18-11-2025
END:VEVENT
BEGIN:VTIMEZONE
TZID:Europe/Rome
X-LIC-LOCATION:Europe/Rome
BEGIN:STANDARD
DTSTART:20251026T020000
TZNAME:CET
TZOFFSETFROM:+0200
TZOFFSETTO:+0100
END:STANDARD
END:VTIMEZONE
END:VCALENDAR
