BEGIN:VCALENDAR
VERSION:2.0
PRODID:-//Plone.org//NONSGML plone.app.event//EN
X-WR-TIMEZONE:Europe/Rome
BEGIN:VEVENT
SUMMARY:Commissione Consiliare VI
DTSTART;TZID=Europe/Rome:20230517T183000
DTEND;TZID=Europe/Rome:20230517T200000
DTSTAMP:20260421T150237Z
UID:08bb7fab91654bc19258dd8d60c6fd72@www.comune.parma.it
CATEGORIES:Home page,commissioni consiliari
CREATED:20230504T103554Z
DESCRIPTION:Welfare\, politiche abitative e del lavoro
LAST-MODIFIED:20230718T084814Z
URL:https://www.comune.parma.it/api/it/vivere-parma/eventi/commissione-con
 siliare-vi-4/2023-05-17
END:VEVENT
BEGIN:VTIMEZONE
TZID:Europe/Rome
X-LIC-LOCATION:Europe/Rome
BEGIN:DAYLIGHT
DTSTART:20230326T030000
TZNAME:CEST
TZOFFSETFROM:+0100
TZOFFSETTO:+0200
END:DAYLIGHT
END:VTIMEZONE
END:VCALENDAR
