BEGIN:VCALENDAR
VERSION:2.0
PRODID:-//Plone.org//NONSGML plone.app.event//EN
X-WR-TIMEZONE:Europe/Rome
BEGIN:VEVENT
SUMMARY:Commissione Consiliare VII
DTSTART;TZID=Europe/Rome:20251215T173000
DTEND;TZID=Europe/Rome:20251215T183000
DTSTAMP:20260421T154149Z
UID:63d51a4ee52a422b84996b854023f383@www.comune.parma.it
CATEGORIES:Home page,commissioni consiliari
CREATED:20251212T141324Z
DESCRIPTION:Convocazione della Settima Commissione Consiliare Permanente "
 Cultura\, Sport\, Turismo e Diritti”
LAST-MODIFIED:20251212T141502Z
URL:https://www.comune.parma.it/api/it/vivere-parma/eventi/commissione-con
 siliare-vii-15-12-2025/2025-12-15
END:VEVENT
BEGIN:VTIMEZONE
TZID:Europe/Rome
X-LIC-LOCATION:Europe/Rome
BEGIN:STANDARD
DTSTART:20251026T020000
TZNAME:CET
TZOFFSETFROM:+0200
TZOFFSETTO:+0100
END:STANDARD
END:VTIMEZONE
END:VCALENDAR
