BEGIN:VCALENDAR
VERSION:2.0
PRODID:-//Plone.org//NONSGML plone.app.event//EN
X-WR-TIMEZONE:Europe/Rome
BEGIN:VEVENT
SUMMARY:Commissione Consiliare IV
DTSTART;TZID=Europe/Rome:20220512T173000
DTEND;TZID=Europe/Rome:20220512T200000
DTSTAMP:20260419T172711Z
UID:82375ddd83f64b1ba3421f9fd85a99d9@www.comune.parma.it
CATEGORIES:Home page,commissioni consiliari
CREATED:20220509T094942Z
DESCRIPTION:Commissioni Consiliare permanente IV “Patrimonio\, Partecipa
 zioni\, Attività Produttive\, Interventi in campo economico e tributario\
 , Bilancio”
LAST-MODIFIED:20230718T084931Z
URL:https://www.comune.parma.it/api/it/vivere-parma/eventi/commissioni-con
 siliare-iv/2022-05-12
END:VEVENT
BEGIN:VTIMEZONE
TZID:Europe/Rome
X-LIC-LOCATION:Europe/Rome
BEGIN:DAYLIGHT
DTSTART:20220327T030000
TZNAME:CEST
TZOFFSETFROM:+0100
TZOFFSETTO:+0200
END:DAYLIGHT
END:VTIMEZONE
END:VCALENDAR
