BEGIN:VCALENDAR
VERSION:2.0
PRODID:-//Plone.org//NONSGML plone.app.event//EN
X-WR-TIMEZONE:Europe/Rome
BEGIN:VEVENT
SUMMARY:Commissioni Consiliari congiunta II e IV
DTSTART;TZID=Europe/Rome:20251121T170000
DTEND;TZID=Europe/Rome:20251121T180000
DTSTAMP:20260419T173023Z
UID:f2b3eea9ddef4a24b0e48e3c9f78ced7@www.comune.parma.it
CATEGORIES:Home page,commissioni consiliari
CREATED:20251117T155801Z
DESCRIPTION:Convocazione in seduta congiunta delle Commissioni Consiliari 
 II “Garanzia e Controllo” e IV “Ambiente\, Mobilità e Transizione d
 igitale” 
LAST-MODIFIED:20251117T160147Z
URL:https://www.comune.parma.it/api/it/vivere-parma/eventi/commissioni-con
 siliari-congiunta-ii-e-iv-21-11-2025
END:VEVENT
BEGIN:VTIMEZONE
TZID:Europe/Rome
X-LIC-LOCATION:Europe/Rome
BEGIN:STANDARD
DTSTART:20251026T020000
TZNAME:CET
TZOFFSETFROM:+0200
TZOFFSETTO:+0100
END:STANDARD
END:VTIMEZONE
END:VCALENDAR
