BEGIN:VCALENDAR
VERSION:2.0
PRODID:-//Plone.org//NONSGML plone.app.event//EN
X-WR-TIMEZONE:Europe/Rome
BEGIN:VEVENT
SUMMARY:Parma Illumina il Tuo Natale
DTSTART;VALUE=DATE:20241201
DTEND;VALUE=DATE:20250113
DTSTAMP:20260420T191012Z
UID:c22b968d5e7e40cc975d4e890ce33d86@www.comune.parma.it
CATEGORIES:Home page,Natale2024
CREATED:20241121T151624Z
DESCRIPTION:Centinaia di proposte in musica\, incontri\, libri e cultura e
 nogastronomica della città di Parma
LAST-MODIFIED:20241127T140059Z
URL:https://www.comune.parma.it/api/it/vivere-parma/eventi/concerto-de-i-s
 olisti-di-parma
END:VEVENT
END:VCALENDAR
