BEGIN:VCALENDAR
VERSION:2.0
PRODID:-//Plone.org//NONSGML plone.app.event//EN
X-WR-TIMEZONE:Europe/Rome
BEGIN:VEVENT
SUMMARY:Consiglio Comunale
DTSTART;TZID=Europe/Rome:20230605T150000
DTEND;TZID=Europe/Rome:20230605T200000
DTSTAMP:20260419T201151Z
UID:8b2b6413b72d4db09d4eddd0a4cddec2@www.comune.parma.it
CATEGORIES:Home page,Consiglio comunale
CREATED:20230530T132839Z
DESCRIPTION:In sessione straordinaria e seduta pubblica di prima convocazi
 one.
LAST-MODIFIED:20230727T100201Z
URL:https://www.comune.parma.it/api/it/vivere-parma/eventi/consiglio-comun
 ale-16
END:VEVENT
BEGIN:VTIMEZONE
TZID:Europe/Rome
X-LIC-LOCATION:Europe/Rome
BEGIN:DAYLIGHT
DTSTART:20230326T030000
TZNAME:CEST
TZOFFSETFROM:+0100
TZOFFSETTO:+0200
END:DAYLIGHT
END:VTIMEZONE
END:VCALENDAR
