BEGIN:VCALENDAR
VERSION:2.0
PRODID:-//Plone.org//NONSGML plone.app.event//EN
X-WR-TIMEZONE:Europe/Rome
BEGIN:VEVENT
SUMMARY:Consiglio Comunale
DTSTART;TZID=Europe/Rome:20220530T183000
DTEND;TZID=Europe/Rome:20220530T235900
DTSTAMP:20260420T064229Z
UID:defb5fe1dc1c44b5b15646629cad93f2@www.comune.parma.it
CATEGORIES:Home page,Consiglio comunale
CREATED:20220527T151723Z
DESCRIPTION:In sessione d'urgenza e seduta pubblica
LAST-MODIFIED:20230718T084930Z
URL:https://www.comune.parma.it/api/it/vivere-parma/eventi/consiglio-comun
 ale-6
END:VEVENT
BEGIN:VTIMEZONE
TZID:Europe/Rome
X-LIC-LOCATION:Europe/Rome
BEGIN:DAYLIGHT
DTSTART:20220327T030000
TZNAME:CEST
TZOFFSETFROM:+0100
TZOFFSETTO:+0200
END:DAYLIGHT
END:VTIMEZONE
END:VCALENDAR
