BEGIN:VCALENDAR
VERSION:2.0
PRODID:-//Plone.org//NONSGML plone.app.event//EN
X-WR-TIMEZONE:Europe/Rome
BEGIN:VEVENT
SUMMARY:Consiglio Comunale
DTSTART;TZID=Europe/Rome:20220420T150000
DTEND;TZID=Europe/Rome:20220420T230000
DTSTAMP:20260419T155228Z
UID:b955fcdf4644433da82f2f95c3c5fea4@www.comune.parma.it
CATEGORIES:Consiglio comunale
CREATED:20221114T120720Z
DESCRIPTION:In sessione straordinaria e seduta pubblica di prima convocazi
 one.
LAST-MODIFIED:20230718T084915Z
URL:https://www.comune.parma.it/api/it/vivere-parma/eventi/consiglio-comun
 ale-9/2022-04-20
END:VEVENT
BEGIN:VTIMEZONE
TZID:Europe/Rome
X-LIC-LOCATION:Europe/Rome
BEGIN:DAYLIGHT
DTSTART:20220327T030000
TZNAME:CEST
TZOFFSETFROM:+0100
TZOFFSETTO:+0200
END:DAYLIGHT
END:VTIMEZONE
END:VCALENDAR
