BEGIN:VCALENDAR
VERSION:2.0
PRODID:-//Plone.org//NONSGML plone.app.event//EN
X-WR-TIMEZONE:Europe/Rome
BEGIN:VEVENT
SUMMARY:CONTINUUM
DTSTART;TZID=Europe/Rome:20251122T100000
DTEND;TZID=Europe/Rome:20260113T190000
DTSTAMP:20260419T141227Z
UID:f0e6788298c648d99750b6cf33b5e502@www.comune.parma.it
CREATED:20251210T113419Z
DESCRIPTION:Un dialogo tra memoria e contemporaneità\, tra luce e ombra\,
  tra la storia dell’arte e la sua perpetua riscrittura. Fino al 13 genna
 io\, quattro artisti in mostra fra la Galleria San Ludovico e il Torrione 
 Visconteo.
LAST-MODIFIED:20251210T132951Z
URL:https://www.comune.parma.it/api/it/vivere-parma/eventi/continuum
END:VEVENT
BEGIN:VTIMEZONE
TZID:Europe/Rome
X-LIC-LOCATION:Europe/Rome
BEGIN:STANDARD
DTSTART:20251026T020000
TZNAME:CET
TZOFFSETFROM:+0200
TZOFFSETTO:+0100
END:STANDARD
END:VTIMEZONE
END:VCALENDAR
