BEGIN:VCALENDAR
VERSION:2.0
PRODID:-//Plone.org//NONSGML plone.app.event//EN
X-WR-TIMEZONE:Europe/Rome
BEGIN:VEVENT
SUMMARY:Convocazione della VII Commissione Consiliare
DTSTART;TZID=Europe/Rome:20240213T183000
DTEND;TZID=Europe/Rome:20240213T193000
DTSTAMP:20260421T212114Z
UID:e4c3efa5c4f74e70ae70a58eb61512ba@www.comune.parma.it
CATEGORIES:Home page,commissioni consiliari
CREATED:20240130T174028Z
DESCRIPTION:Si comunica che la VII Commissione consiliare ”Cultura\, Spo
 rt\, Turismo e Diritti” è convocata per il giorno Martedì 13 Febbraio 
 2024 alle ore 18\,30\npresso la Sala Consiglio della Residenza Municipale 
 – strada Repubblica\,1
LAST-MODIFIED:20240130T175018Z
URL:https://www.comune.parma.it/api/it/vivere-parma/eventi/convocazione-de
 lla-vii-commissione-consiliare-13-02-2024
END:VEVENT
BEGIN:VTIMEZONE
TZID:Europe/Rome
X-LIC-LOCATION:Europe/Rome
BEGIN:STANDARD
DTSTART:20231029T020000
TZNAME:CET
TZOFFSETFROM:+0200
TZOFFSETTO:+0100
END:STANDARD
END:VTIMEZONE
END:VCALENDAR
