BEGIN:VCALENDAR
VERSION:2.0
PRODID:-//Plone.org//NONSGML plone.app.event//EN
X-WR-TIMEZONE:Europe/Rome
BEGIN:VEVENT
SUMMARY:Enrico Medioli - Cento anni di storie per il cinema (1925- 2025)
DTSTART;TZID=Europe/Rome:20250315T153000
DTEND;TZID=Europe/Rome:20250315T173000
DTSTAMP:20260422T150420Z
UID:52035d85865545008b61eb88f22cc25c@www.comune.parma.it
CATEGORIES:Home page
CREATED:20250314T104706Z
DESCRIPTION:Proiezione del film di Sergio Leone C’era una volta in Ameri
 ca (1984)
LAST-MODIFIED:20250314T105853Z
URL:https://www.comune.parma.it/api/it/vivere-parma/eventi/enrico-medioli-
 cento-anni-di-storie-per-il-cinema-1925-2025/2025-03-15
END:VEVENT
BEGIN:VTIMEZONE
TZID:Europe/Rome
X-LIC-LOCATION:Europe/Rome
BEGIN:STANDARD
DTSTART:20241027T020000
TZNAME:CET
TZOFFSETFROM:+0200
TZOFFSETTO:+0100
END:STANDARD
END:VTIMEZONE
END:VCALENDAR
