BEGIN:VCALENDAR
VERSION:2.0
PRODID:-//Plone.org//NONSGML plone.app.event//EN
X-WR-TIMEZONE:Europe/Rome
BEGIN:VEVENT
SUMMARY:Ermo Colle
DTSTART;TZID=Europe/Rome:20250729T211500
DTEND;TZID=Europe/Rome:20250813T233000
DTSTAMP:20260420T083857Z
UID:90adcf492c2244fd8fdab44e6d4bf962@www.comune.parma.it
CATEGORIES:Home page
CREATED:20250722T144301Z
DESCRIPTION:Undici gli spettacoli in concorso al Palio di Ermo Colle che s
 i svolgerà dal 29 luglio al 13 agosto in dodici Comuni
LAST-MODIFIED:20250722T151541Z
URL:https://www.comune.parma.it/api/it/vivere-parma/eventi/ermo-colle/2025
 -07-29
END:VEVENT
BEGIN:VTIMEZONE
TZID:Europe/Rome
X-LIC-LOCATION:Europe/Rome
BEGIN:DAYLIGHT
DTSTART:20250330T030000
TZNAME:CEST
TZOFFSETFROM:+0100
TZOFFSETTO:+0200
END:DAYLIGHT
END:VTIMEZONE
END:VCALENDAR
