BEGIN:VCALENDAR
VERSION:2.0
PRODID:-//Plone.org//NONSGML plone.app.event//EN
X-WR-TIMEZONE:Europe/Rome
BEGIN:VEVENT
SUMMARY:Festival della Lentezza 2025
DTSTART;VALUE=DATE:20250606
DTEND;VALUE=DATE:20250609
DTSTAMP:20260421T133059Z
UID:8f56646bece64f13a92ee04b05b63811@www.comune.parma.it
CATEGORIES:Home page
CREATED:20250527T102253Z
DESCRIPTION:Cinquantanove eventi dal 6 all'8 giungo: musica\, teatro\, let
 teratura\, cinema\, danza\, poesia e laboratori. Da Gad Lerner a Mario Bru
 nello\, da Michele Serra ad Antonio Scurati e tanti altri ancora. 
LAST-MODIFIED:20250604T104811Z
URL:https://www.comune.parma.it/api/it/vivere-parma/eventi/festival-della-
 lentezza-2025
END:VEVENT
END:VCALENDAR
