BEGIN:VCALENDAR
VERSION:2.0
PRODID:-//Plone.org//NONSGML plone.app.event//EN
X-WR-TIMEZONE:Europe/Rome
BEGIN:VEVENT
SUMMARY:Festival della pace 2025
DTSTART;TZID=Europe/Rome:20251004T140000
DTEND;TZID=Europe/Rome:20251206T230000
DTSTAMP:20260421T101200Z
UID:6155580f76974bb8ade0ce09e8277df3@www.comune.parma.it
CATEGORIES:Home page
CREATED:20251001T135435Z
DESCRIPTION:Al via la quarta edizione del Festival della Pace di Parma che
  si terrà dal 4 ottobre al 6 dicembre 2025
LAST-MODIFIED:20251003T084500Z
URL:https://www.comune.parma.it/api/it/vivere-parma/eventi/festival-della-
 pace
END:VEVENT
BEGIN:VTIMEZONE
TZID:Europe/Rome
X-LIC-LOCATION:Europe/Rome
BEGIN:DAYLIGHT
DTSTART:20250330T030000
TZNAME:CEST
TZOFFSETFROM:+0100
TZOFFSETTO:+0200
END:DAYLIGHT
BEGIN:STANDARD
DTSTART:20251026T020000
TZNAME:CET
TZOFFSETFROM:+0200
TZOFFSETTO:+0100
END:STANDARD
END:VTIMEZONE
END:VCALENDAR
