BEGIN:VCALENDAR
VERSION:2.0
PRODID:-//Plone.org//NONSGML plone.app.event//EN
X-WR-TIMEZONE:Europe/Rome
BEGIN:VEVENT
SUMMARY:Finché notte non ci separi
DTSTART;TZID=Europe/Rome:20240810T211500
DTEND;TZID=Europe/Rome:20240810T230000
DTSTAMP:20260419T221337Z
UID:3195f9133bb94f33adac055b15439474@www.comune.parma.it
CATEGORIES:Home page
CREATED:20240802T143944Z
DESCRIPTION:Proiezione del secondo film Riccardo Antonaroli\, anteprima de
 lla stagione cinematografica 2024-2025.
LAST-MODIFIED:20240802T144207Z
URL:https://www.comune.parma.it/api/it/vivere-parma/eventi/finche-notte-no
 n-ci-separi/2024-08-10
END:VEVENT
BEGIN:VTIMEZONE
TZID:Europe/Rome
X-LIC-LOCATION:Europe/Rome
BEGIN:DAYLIGHT
DTSTART:20240331T030000
TZNAME:CEST
TZOFFSETFROM:+0100
TZOFFSETTO:+0200
END:DAYLIGHT
END:VTIMEZONE
END:VCALENDAR
