BEGIN:VCALENDAR
VERSION:2.0
PRODID:-//Plone.org//NONSGML plone.app.event//EN
X-WR-TIMEZONE:Europe/Rome
BEGIN:VEVENT
SUMMARY:Flash mob per la promozione dell’accoglienza e dell’affido fam
 iliare
DTSTART;TZID=Europe/Rome:20241207T140000
DTEND;TZID=Europe/Rome:20241207T150000
DTSTAMP:20260421T123345Z
UID:ac992ab41cfa46bf8ffbe192afc9930a@www.comune.parma.it
CATEGORIES:collaterale open days
CREATED:20241202T131928Z
DESCRIPTION:Il Coro di voci bianche del Teatro Regio di Parma diretto dal 
 Maestro Massimo Fiocchi Malaspina offrirà un’esibizione\, seguita da un
  flash mob dedicato ai temi dell’accoglienza e dell’affido familiare.
LAST-MODIFIED:20241202T132023Z
URL:https://www.comune.parma.it/api/it/vivere-parma/eventi/flash-mob-per-l
 a-promozione-dellaccoglienza-e-dellaffido-familiare
END:VEVENT
BEGIN:VTIMEZONE
TZID:Europe/Rome
X-LIC-LOCATION:Europe/Rome
BEGIN:STANDARD
DTSTART:20241027T020000
TZNAME:CET
TZOFFSETFROM:+0200
TZOFFSETTO:+0100
END:STANDARD
END:VTIMEZONE
END:VCALENDAR
