BEGIN:VCALENDAR
VERSION:2.0
PRODID:-//Plone.org//NONSGML plone.app.event//EN
X-WR-TIMEZONE:Europe/Rome
BEGIN:VEVENT
SUMMARY:Flow. Un mondo da salvare
DTSTART;TZID=Europe/Rome:20241117T103000
DTEND;TZID=Europe/Rome:20241117T120000
DTSTAMP:20260425T124412Z
UID:798b8e4bbf984af3b8806695f6f72180@www.comune.parma.it
CATEGORIES:Home page
CREATED:20241114T113047Z
DESCRIPTION:Al cinema Astra\, la proiezione del film di animazione che ha 
 incantato il Festival di Cannes e conquistato quattro premi ad Annecy.
LAST-MODIFIED:20241114T113055Z
URL:https://www.comune.parma.it/api/it/vivere-parma/eventi/flow-un-mondo-d
 a-salvare/2024-11-17
END:VEVENT
BEGIN:VTIMEZONE
TZID:Europe/Rome
X-LIC-LOCATION:Europe/Rome
BEGIN:STANDARD
DTSTART:20241027T020000
TZNAME:CET
TZOFFSETFROM:+0200
TZOFFSETTO:+0100
END:STANDARD
END:VTIMEZONE
END:VCALENDAR
