BEGIN:VCALENDAR
VERSION:2.0
PRODID:-//Plone.org//NONSGML plone.app.event//EN
X-WR-TIMEZONE:Europe/Rome
BEGIN:VEVENT
SUMMARY:Gemello Digitale del Comune
DTSTART;TZID=Europe/Rome:20251018T104000
DTEND;TZID=Europe/Rome:20251018T110000
DTSTAMP:20260419T220603Z
UID:8de7538a40e74ee8ae35f52104c0fe90@www.comune.parma.it
CATEGORIES:Home page
CREATED:20251014T102913Z
DESCRIPTION:Presentazione nell'ambito del Mini Digital Festival.
LAST-MODIFIED:20251014T102947Z
URL:https://www.comune.parma.it/api/it/vivere-parma/eventi/gemello-digital
 e-del-comune
END:VEVENT
BEGIN:VTIMEZONE
TZID:Europe/Rome
X-LIC-LOCATION:Europe/Rome
BEGIN:DAYLIGHT
DTSTART:20250330T030000
TZNAME:CEST
TZOFFSETFROM:+0100
TZOFFSETTO:+0200
END:DAYLIGHT
END:VTIMEZONE
END:VCALENDAR
