BEGIN:VCALENDAR
VERSION:2.0
PRODID:-//Plone.org//NONSGML plone.app.event//EN
X-WR-TIMEZONE:Europe/Rome
BEGIN:VEVENT
SUMMARY:Giordano Bruno Guerri a Palazzo del Governatore
DTSTART;TZID=Europe/Rome:20251215T173000
DTEND;TZID=Europe/Rome:20251215T190000
DTSTAMP:20260420T000756Z
UID:54c624c7bd7d4de5bf2e9655aa136ba6@www.comune.parma.it
CATEGORIES:Home page
CREATED:20251210T110137Z
DESCRIPTION:Lunedì 15 dicembre alle ore 17.30 appuntamento con lo storico
  e saggista\, a partire dal suo ultimo libro “Audacia Ribellione Velocit
 à. Vite strabilianti dei futuristi italiani”. \nIngresso libero fino ad
  esaurimento posti.
LAST-MODIFIED:20251210T133044Z
URL:https://www.comune.parma.it/api/it/vivere-parma/eventi/giordano-bruno-
 guerri-a-palazzo-del-governatore/2025-12-15
END:VEVENT
BEGIN:VTIMEZONE
TZID:Europe/Rome
X-LIC-LOCATION:Europe/Rome
BEGIN:STANDARD
DTSTART:20251026T020000
TZNAME:CET
TZOFFSETFROM:+0200
TZOFFSETTO:+0100
END:STANDARD
END:VTIMEZONE
END:VCALENDAR
