BEGIN:VCALENDAR
VERSION:2.0
PRODID:-//Plone.org//NONSGML plone.app.event//EN
X-WR-TIMEZONE:Europe/Rome
BEGIN:VEVENT
SUMMARY:Giornate FAI d'Autunno 2025
DTSTART;TZID=Europe/Rome:20251011T090000
DTEND;TZID=Europe/Rome:20251012T180000
DTSTAMP:20260419T173544Z
UID:eb1650f843d74236abaf9eaf653272c1@www.comune.parma.it
CATEGORIES:Home page
CREATED:20251008T084621Z
DESCRIPTION:Sabato 11 e domenica 12 ottobre tornano le giornate dedicate a
 l patrimonio culturale e paesaggistico del nostro Paese. Parma aderisce ap
 rendo luoghi belli e inconsueti\, uniti dal tema "I luoghi del potere"
LAST-MODIFIED:20251008T100418Z
URL:https://www.comune.parma.it/api/it/vivere-parma/eventi/giornate-fai-da
 utunno-2025/2025-10-11
END:VEVENT
BEGIN:VTIMEZONE
TZID:Europe/Rome
X-LIC-LOCATION:Europe/Rome
BEGIN:DAYLIGHT
DTSTART:20250330T030000
TZNAME:CEST
TZOFFSETFROM:+0100
TZOFFSETTO:+0200
END:DAYLIGHT
END:VTIMEZONE
END:VCALENDAR
