BEGIN:VCALENDAR
VERSION:2.0
PRODID:-//Plone.org//NONSGML plone.app.event//EN
X-WR-TIMEZONE:Europe/Rome
BEGIN:VEVENT
SUMMARY:Giorno della Memoria 2026
DTSTART;TZID=Europe/Rome:20260124T140000
DTEND;TZID=Europe/Rome:20260130T150000
DTSTAMP:20260421T083308Z
UID:c2f9bd084a3c4bbe90f137ec34d59985@www.comune.parma.it
CATEGORIES:Home page
CREATED:20260123T135917Z
DESCRIPTION:Il programma delle iniziative.
LAST-MODIFIED:20260128T105628Z
URL:https://www.comune.parma.it/api/it/vivere-parma/eventi/giorno-della-me
 moria-2026
END:VEVENT
BEGIN:VTIMEZONE
TZID:Europe/Rome
X-LIC-LOCATION:Europe/Rome
BEGIN:STANDARD
DTSTART:20251026T020000
TZNAME:CET
TZOFFSETFROM:+0200
TZOFFSETTO:+0100
END:STANDARD
END:VTIMEZONE
END:VCALENDAR
