BEGIN:VCALENDAR
VERSION:2.0
PRODID:-//Plone.org//NONSGML plone.app.event//EN
X-WR-TIMEZONE:Europe/Rome
BEGIN:VEVENT
SUMMARY:Giorno della Memoria. Seduta congiunta dei Consigli Comunale e Pro
 vinciale.
DTSTART;TZID=Europe/Rome:20250127T150000
DTEND;TZID=Europe/Rome:20250127T180000
DTSTAMP:20260420T162324Z
UID:55e19084ee2e4c96871a73adcf4ead62@www.comune.parma.it
CATEGORIES:Home page,Consiglio comunale
CREATED:20250121T145438Z
DESCRIPTION:Si celebra anche quest’anno il Giorno della Memoria\, istitu
 ito con Legge della Repubblica a ricordo dello sterminio del Popolo Ebraic
 o e dei Deportati politici e militari italiani nei campi di concentramento
  nazisti.
LAST-MODIFIED:20250127T093048Z
URL:https://www.comune.parma.it/api/it/vivere-parma/eventi/giorno-della-me
 moria-seduta-congiunta-dei-consigli-comunale-e-provinciale
END:VEVENT
BEGIN:VTIMEZONE
TZID:Europe/Rome
X-LIC-LOCATION:Europe/Rome
BEGIN:STANDARD
DTSTART:20241027T020000
TZNAME:CET
TZOFFSETFROM:+0200
TZOFFSETTO:+0100
END:STANDARD
END:VTIMEZONE
END:VCALENDAR
