BEGIN:VCALENDAR
VERSION:2.0
PRODID:-//Plone.org//NONSGML plone.app.event//EN
X-WR-TIMEZONE:Europe/Rome
BEGIN:VEVENT
SUMMARY:Giunta nei quartieri al San Leonardo
DTSTART;TZID=Europe/Rome:20250722T183000
DTEND;TZID=Europe/Rome:20250722T203000
DTSTAMP:20260419T201739Z
UID:67b120826e6e4f32a9ae9953039aa6cf@www.comune.parma.it
CATEGORIES:Home page,cento-2025
CREATED:20250723T120215Z
DESCRIPTION:Appuntamento martedì 22 luglio\, alle 18.30\, al San Leonardo
  – Cortile San Martino\, presso il Teatro LENZ - Via Pasubio\, 3/e 
LAST-MODIFIED:20250723T120730Z
URL:https://www.comune.parma.it/api/it/vivere-parma/eventi/giunta-nei-quar
 tieri-al-san-leonardo/2025-07-22
END:VEVENT
BEGIN:VTIMEZONE
TZID:Europe/Rome
X-LIC-LOCATION:Europe/Rome
BEGIN:DAYLIGHT
DTSTART:20250330T030000
TZNAME:CEST
TZOFFSETFROM:+0100
TZOFFSETTO:+0200
END:DAYLIGHT
END:VTIMEZONE
END:VCALENDAR
