BEGIN:VCALENDAR
VERSION:2.0
PRODID:-//Plone.org//NONSGML plone.app.event//EN
X-WR-TIMEZONE:Europe/Rome
BEGIN:VEVENT
SUMMARY:Giuseppe Benassi. Mito e Realtà
DTSTART;TZID=Europe/Rome:20250913T100000
DTEND;TZID=Europe/Rome:20251102T190000
DTSTAMP:20260419T184742Z
UID:66418cd1179a4a9e99723301bb91772c@www.comune.parma.it
CATEGORIES:Home page
CREATED:20250903T135602Z
DESCRIPTION:Dal 13 settembre\, presso Palazzo Pigorini\, è possibile visi
 tare la mostra dedicata all'artista Giuseppe Benassi. In esposizione una s
 essantina di opere tra dipinti ad olio e disegni\, provenienti dalla famig
 lia e da collezioni private
LAST-MODIFIED:20250903T142604Z
URL:https://www.comune.parma.it/api/it/vivere-parma/eventi/giuseppe-benass
 i-mito-e-realta
END:VEVENT
BEGIN:VTIMEZONE
TZID:Europe/Rome
X-LIC-LOCATION:Europe/Rome
BEGIN:DAYLIGHT
DTSTART:20250330T030000
TZNAME:CEST
TZOFFSETFROM:+0100
TZOFFSETTO:+0200
END:DAYLIGHT
BEGIN:STANDARD
DTSTART:20251026T020000
TZNAME:CET
TZOFFSETFROM:+0200
TZOFFSETTO:+0100
END:STANDARD
END:VTIMEZONE
END:VCALENDAR
