BEGIN:VCALENDAR
VERSION:2.0
PRODID:-//Plone.org//NONSGML plone.app.event//EN
X-WR-TIMEZONE:Europe/Rome
BEGIN:VEVENT
SUMMARY:I Like Parma - Oltretorrente
DTSTART;TZID=Europe/Rome:20250927T150000
DTEND;TZID=Europe/Rome:20250928T230000
DTSTAMP:20260421T192633Z
UID:88d411ebcdde4a97b2e84f7447f030ef@www.comune.parma.it
CATEGORIES:Home page,Newsletter
CREATED:20250917T094029Z
DESCRIPTION:Tra Oltretorrente e centro storico\, nel weekend del 27 e 28 s
 ettembre\, si anima la 14^ edizione dell'iniziativa dedicata alla scoperta
  del patrimonio culturale della città.
LAST-MODIFIED:20250926T134325Z
URL:https://www.comune.parma.it/api/it/vivere-parma/eventi/i-like-parma-ol
 tretorrente/2025-09-27
END:VEVENT
BEGIN:VTIMEZONE
TZID:Europe/Rome
X-LIC-LOCATION:Europe/Rome
BEGIN:DAYLIGHT
DTSTART:20250330T030000
TZNAME:CEST
TZOFFSETFROM:+0100
TZOFFSETTO:+0200
END:DAYLIGHT
END:VTIMEZONE
END:VCALENDAR
