BEGIN:VCALENDAR
VERSION:2.0
PRODID:-//Plone.org//NONSGML plone.app.event//EN
X-WR-TIMEZONE:Europe/Rome
BEGIN:VEVENT
SUMMARY:I like Parma XIII edizione - Alberto Bevilacqua e la sua città
DTSTART;TZID=Europe/Rome:20250405T100000
DTEND;TZID=Europe/Rome:20250406T183000
DTSTAMP:20260421T231442Z
UID:6d39312a68d64f6a81698cb76d5f435e@www.comune.parma.it
CATEGORIES:Home page
CREATED:20250324T145440Z
DESCRIPTION:Speciale Cinema: Dal set alla città
LAST-MODIFIED:20250324T151549Z
URL:https://www.comune.parma.it/api/it/vivere-parma/eventi/i-like-parma-xi
 ii-edizione-alberto-bevilacqua-e-la-sua-citta/2025-04-05
END:VEVENT
BEGIN:VTIMEZONE
TZID:Europe/Rome
X-LIC-LOCATION:Europe/Rome
BEGIN:DAYLIGHT
DTSTART:20250330T030000
TZNAME:CEST
TZOFFSETFROM:+0100
TZOFFSETTO:+0200
END:DAYLIGHT
END:VTIMEZONE
END:VCALENDAR
