BEGIN:VCALENDAR
VERSION:2.0
PRODID:-//Plone.org//NONSGML plone.app.event//EN
X-WR-TIMEZONE:Europe/Rome
BEGIN:VEVENT
SUMMARY:I like Parma
DTSTART;VALUE=DATE:20250405
DTEND;VALUE=DATE:20250407
DTSTAMP:20260419T195745Z
UID:623647ef11a74567b91fde4940dc5cfa@www.comune.parma.it
CATEGORIES:Home page
CREATED:20250328T085512Z
DESCRIPTION:Sabato 5 e domenica 6 aprile XIII edizione di I like Parma 
LAST-MODIFIED:20250328T085831Z
URL:https://www.comune.parma.it/api/it/vivere-parma/eventi/i-like-parma
END:VEVENT
END:VCALENDAR
