BEGIN:VCALENDAR
VERSION:2.0
PRODID:-//Plone.org//NONSGML plone.app.event//EN
X-WR-TIMEZONE:Europe/Rome
BEGIN:VEVENT
SUMMARY:I linguaggi espressivi dell’essere umano protetico del Futurismo
DTSTART;TZID=Europe/Rome:20260130T173000
DTEND;TZID=Europe/Rome:20260130T190000
DTSTAMP:20260420T034729Z
UID:9086a8b59abb4cc999a1c9d47adfafea@www.comune.parma.it
CREATED:20260121T135612Z
DESCRIPTION:Venerdì 30 gennaio\, alle ore 17.30 a Palazzo del Governatore
 \, appuntamento con il linguista e glottologo Diego Poli che chiude il cic
 lo di incontri collaterali alla mostra “Giacomo Balla. Un universo di lu
 ce”.
LAST-MODIFIED:20260121T140230Z
URL:https://www.comune.parma.it/api/it/vivere-parma/eventi/i-linguaggi-esp
 ressivi-dellessere-umano-protetico-del-futurismo
END:VEVENT
BEGIN:VTIMEZONE
TZID:Europe/Rome
X-LIC-LOCATION:Europe/Rome
BEGIN:STANDARD
DTSTART:20251026T020000
TZNAME:CET
TZOFFSETFROM:+0200
TZOFFSETTO:+0100
END:STANDARD
END:VTIMEZONE
END:VCALENDAR
