BEGIN:VCALENDAR
VERSION:2.0
PRODID:-//Plone.org//NONSGML plone.app.event//EN
X-WR-TIMEZONE:Europe/Rome
BEGIN:VEVENT
SUMMARY:I Musei Civici per la Giornata Internazionale della Donna
DTSTART;VALUE=DATE:20260308
DTEND;VALUE=DATE:20260309
DTSTAMP:20260425T125616Z
UID:3ce48a452a044a5d988d16136dbb51f9@www.comune.parma.it
CATEGORIES:Home page
CREATED:20260306T121535Z
DESCRIPTION:Domenica 8 marzo\, in occasione della Giornata Internazionale 
 della Donna\, ingresso gratuito ai Musei civici di Parma per le donne
LAST-MODIFIED:20260306T123130Z
URL:https://www.comune.parma.it/api/it/vivere-parma/eventi/i-musei-civici-
 per-la-giornata-internazionale-della-donna
END:VEVENT
END:VCALENDAR
