BEGIN:VCALENDAR
VERSION:2.0
PRODID:-//Plone.org//NONSGML plone.app.event//EN
X-WR-TIMEZONE:Europe/Rome
BEGIN:VEVENT
SUMMARY:Commissione Consiliare III
DTSTART;TZID=Europe/Rome:20220928T183000
DTEND;TZID=Europe/Rome:20220928T210000
DTSTAMP:20260419T203147Z
UID:71ec4016645d497094dd07438238e3b1@www.comune.parma.it
CATEGORIES:commissioni consiliari
CREATED:20220922T142824Z
DESCRIPTION:Commissione consiliare ”Urbanistica\, Attività produttive e
 \nProtezione civile”
LAST-MODIFIED:20230718T084921Z
URL:https://www.comune.parma.it/api/it/vivere-parma/eventi/iii-commissione
 -consiliare
END:VEVENT
BEGIN:VTIMEZONE
TZID:Europe/Rome
X-LIC-LOCATION:Europe/Rome
BEGIN:DAYLIGHT
DTSTART:20220327T030000
TZNAME:CEST
TZOFFSETFROM:+0100
TZOFFSETTO:+0200
END:DAYLIGHT
END:VTIMEZONE
END:VCALENDAR
