BEGIN:VCALENDAR
VERSION:2.0
PRODID:-//Plone.org//NONSGML plone.app.event//EN
X-WR-TIMEZONE:Europe/Rome
BEGIN:VEVENT
SUMMARY:Il coraggio della pace: 26 anni di resistenza nonviolenta
DTSTART;TZID=Europe/Rome:20251019T170000
DTEND;TZID=Europe/Rome:20251019T183000
DTSTAMP:20260421T140730Z
UID:0790879695264942a7447af6e3bbf606@www.comune.parma.it
CATEGORIES:Home page
CREATED:20251017T094849Z
DESCRIPTION:Incontro con la Comunità di pace San Josè Apartadò (Colombi
 a)
LAST-MODIFIED:20251017T095621Z
URL:https://www.comune.parma.it/api/it/vivere-parma/eventi/il-coraggio-del
 la-pace-26-anni-di-resistenza-nonviolenta/2025-10-19
END:VEVENT
BEGIN:VTIMEZONE
TZID:Europe/Rome
X-LIC-LOCATION:Europe/Rome
BEGIN:DAYLIGHT
DTSTART:20250330T030000
TZNAME:CEST
TZOFFSETFROM:+0100
TZOFFSETTO:+0200
END:DAYLIGHT
END:VTIMEZONE
END:VCALENDAR
