BEGIN:VCALENDAR
VERSION:2.0
PRODID:-//Plone.org//NONSGML plone.app.event//EN
X-WR-TIMEZONE:Europe/Rome
BEGIN:VEVENT
SUMMARY:Il progetto di vita in dialogo con il sistema dei sostegni
DTSTART;TZID=Europe/Rome:20260420T140000
DTEND;TZID=Europe/Rome:20260420T180000
DTSTAMP:20260419T214959Z
UID:35cbf55c668f4e3c99ebb9af3b3a8ebd@www.comune.parma.it
CATEGORIES:Home page
CREATED:20260415T101702Z
DESCRIPTION:Il seminario si terrà il 20 aprile presso la Pubblica Assiste
 nza di via Gorizia. 
LAST-MODIFIED:20260415T101959Z
URL:https://www.comune.parma.it/api/it/vivere-parma/eventi/il-progetto-di-
 vita-in-dialogo-con-il-sistema-dei-sostegni/2026-04-20
END:VEVENT
BEGIN:VTIMEZONE
TZID:Europe/Rome
X-LIC-LOCATION:Europe/Rome
BEGIN:DAYLIGHT
DTSTART:20260329T030000
TZNAME:CEST
TZOFFSETFROM:+0100
TZOFFSETTO:+0200
END:DAYLIGHT
END:VTIMEZONE
END:VCALENDAR
